BEGIN:VCALENDAR
VERSION:2.0
PRODID:-//Riverstone Schofields Memorial Club - ECPv6.7.0//NONSGML v1.0//EN
CALSCALE:GREGORIAN
METHOD:PUBLISH
X-ORIGINAL-URL:https://riverstonememorial.com.au
X-WR-CALDESC:Events for Riverstone Schofields Memorial Club
REFRESH-INTERVAL;VALUE=DURATION:PT1H
X-Robots-Tag:noindex
X-PUBLISHED-TTL:PT1H
BEGIN:VTIMEZONE
TZID:Australia/Sydney
BEGIN:STANDARD
TZOFFSETFROM:+1100
TZOFFSETTO:+1000
TZNAME:AEST
DTSTART:20260404T160000
END:STANDARD
BEGIN:DAYLIGHT
TZOFFSETFROM:+1000
TZOFFSETTO:+1100
TZNAME:AEDT
DTSTART:20261003T160000
END:DAYLIGHT
BEGIN:STANDARD
TZOFFSETFROM:+1100
TZOFFSETTO:+1000
TZNAME:AEST
DTSTART:20270403T160000
END:STANDARD
BEGIN:DAYLIGHT
TZOFFSETFROM:+1000
TZOFFSETTO:+1100
TZNAME:AEDT
DTSTART:20271002T160000
END:DAYLIGHT
BEGIN:STANDARD
TZOFFSETFROM:+1100
TZOFFSETTO:+1000
TZNAME:AEST
DTSTART:20280401T160000
END:STANDARD
BEGIN:DAYLIGHT
TZOFFSETFROM:+1000
TZOFFSETTO:+1100
TZNAME:AEDT
DTSTART:20280930T160000
END:DAYLIGHT
END:VTIMEZONE
BEGIN:VEVENT
DTSTART;TZID=Australia/Sydney:20260519T110000
DTEND;TZID=Australia/Sydney:20260519T170000
DTSTAMP:20260422T194322
CREATED:20250120T065749Z
LAST-MODIFIED:20260209T033832Z
UID:10020858-1779188400-1779210000@riverstonememorial.com.au
SUMMARY:Vegas Day
DESCRIPTION:
URL:https://riverstonememorial.com.au/event/vegas-day-2-2/2026-05-19/
CATEGORIES:Live Entertainment,Regular Events
END:VEVENT
BEGIN:VEVENT
DTSTART;TZID=Australia/Sydney:20260616T110000
DTEND;TZID=Australia/Sydney:20260616T170000
DTSTAMP:20260422T194322
CREATED:20250120T065749Z
LAST-MODIFIED:20260209T033832Z
UID:10020859-1781607600-1781629200@riverstonememorial.com.au
SUMMARY:Vegas Day
DESCRIPTION:
URL:https://riverstonememorial.com.au/event/vegas-day-2-2/2026-06-16/
CATEGORIES:Live Entertainment,Regular Events
END:VEVENT
BEGIN:VEVENT
DTSTART;TZID=Australia/Sydney:20260721T110000
DTEND;TZID=Australia/Sydney:20260721T170000
DTSTAMP:20260422T194322
CREATED:20250120T065749Z
LAST-MODIFIED:20260209T033832Z
UID:10020860-1784631600-1784653200@riverstonememorial.com.au
SUMMARY:Vegas Day
DESCRIPTION:
URL:https://riverstonememorial.com.au/event/vegas-day-2-2/2026-07-21/
CATEGORIES:Live Entertainment,Regular Events
END:VEVENT
BEGIN:VEVENT
DTSTART;TZID=Australia/Sydney:20260818T110000
DTEND;TZID=Australia/Sydney:20260818T170000
DTSTAMP:20260422T194322
CREATED:20250120T065749Z
LAST-MODIFIED:20260209T033832Z
UID:10020861-1787050800-1787072400@riverstonememorial.com.au
SUMMARY:Vegas Day
DESCRIPTION:
URL:https://riverstonememorial.com.au/event/vegas-day-2-2/2026-08-18/
CATEGORIES:Live Entertainment,Regular Events
END:VEVENT
BEGIN:VEVENT
DTSTART;TZID=Australia/Sydney:20260915T110000
DTEND;TZID=Australia/Sydney:20260915T170000
DTSTAMP:20260422T194322
CREATED:20250120T065749Z
LAST-MODIFIED:20260209T033832Z
UID:10020862-1789470000-1789491600@riverstonememorial.com.au
SUMMARY:Vegas Day
DESCRIPTION:
URL:https://riverstonememorial.com.au/event/vegas-day-2-2/2026-09-15/
CATEGORIES:Live Entertainment,Regular Events
END:VEVENT
BEGIN:VEVENT
DTSTART;TZID=Australia/Sydney:20261020T110000
DTEND;TZID=Australia/Sydney:20261020T170000
DTSTAMP:20260422T194322
CREATED:20250120T065749Z
LAST-MODIFIED:20260209T033832Z
UID:10020863-1792494000-1792515600@riverstonememorial.com.au
SUMMARY:Vegas Day
DESCRIPTION:
URL:https://riverstonememorial.com.au/event/vegas-day-2-2/2026-10-20/
CATEGORIES:Live Entertainment,Regular Events
END:VEVENT
BEGIN:VEVENT
DTSTART;TZID=Australia/Sydney:20261117T110000
DTEND;TZID=Australia/Sydney:20261117T170000
DTSTAMP:20260422T194322
CREATED:20250120T065749Z
LAST-MODIFIED:20260209T033832Z
UID:10020864-1794913200-1794934800@riverstonememorial.com.au
SUMMARY:Vegas Day
DESCRIPTION:
URL:https://riverstonememorial.com.au/event/vegas-day-2-2/2026-11-17/
CATEGORIES:Live Entertainment,Regular Events
END:VEVENT
BEGIN:VEVENT
DTSTART;TZID=Australia/Sydney:20261215T110000
DTEND;TZID=Australia/Sydney:20261215T170000
DTSTAMP:20260422T194322
CREATED:20250120T065749Z
LAST-MODIFIED:20260209T033832Z
UID:10020865-1797332400-1797354000@riverstonememorial.com.au
SUMMARY:Vegas Day
DESCRIPTION:
URL:https://riverstonememorial.com.au/event/vegas-day-2-2/2026-12-15/
CATEGORIES:Live Entertainment,Regular Events
END:VEVENT
BEGIN:VEVENT
DTSTART;TZID=Australia/Sydney:20270119T110000
DTEND;TZID=Australia/Sydney:20270119T170000
DTSTAMP:20260422T194322
CREATED:20250120T065749Z
LAST-MODIFIED:20260209T033832Z
UID:10020866-1800356400-1800378000@riverstonememorial.com.au
SUMMARY:Vegas Day
DESCRIPTION:
URL:https://riverstonememorial.com.au/event/vegas-day-2-2/2027-01-19/
CATEGORIES:Live Entertainment,Regular Events
END:VEVENT
BEGIN:VEVENT
DTSTART;TZID=Australia/Sydney:20270216T110000
DTEND;TZID=Australia/Sydney:20270216T170000
DTSTAMP:20260422T194322
CREATED:20250120T065749Z
LAST-MODIFIED:20260209T033832Z
UID:10020867-1802775600-1802797200@riverstonememorial.com.au
SUMMARY:Vegas Day
DESCRIPTION:
URL:https://riverstonememorial.com.au/event/vegas-day-2-2/2027-02-16/
CATEGORIES:Live Entertainment,Regular Events
END:VEVENT
BEGIN:VEVENT
DTSTART;TZID=Australia/Sydney:20270316T110000
DTEND;TZID=Australia/Sydney:20270316T170000
DTSTAMP:20260422T194322
CREATED:20250120T065749Z
LAST-MODIFIED:20260209T033832Z
UID:10020868-1805194800-1805216400@riverstonememorial.com.au
SUMMARY:Vegas Day
DESCRIPTION:
URL:https://riverstonememorial.com.au/event/vegas-day-2-2/2027-03-16/
CATEGORIES:Live Entertainment,Regular Events
END:VEVENT
BEGIN:VEVENT
DTSTART;TZID=Australia/Sydney:20270420T110000
DTEND;TZID=Australia/Sydney:20270420T170000
DTSTAMP:20260422T194322
CREATED:20250120T065749Z
LAST-MODIFIED:20260209T033832Z
UID:10020869-1808218800-1808240400@riverstonememorial.com.au
SUMMARY:Vegas Day
DESCRIPTION:
URL:https://riverstonememorial.com.au/event/vegas-day-2-2/2027-04-20/
CATEGORIES:Live Entertainment,Regular Events
END:VEVENT
BEGIN:VEVENT
DTSTART;TZID=Australia/Sydney:20270518T110000
DTEND;TZID=Australia/Sydney:20270518T170000
DTSTAMP:20260422T194322
CREATED:20250120T065749Z
LAST-MODIFIED:20260209T033832Z
UID:10020870-1810638000-1810659600@riverstonememorial.com.au
SUMMARY:Vegas Day
DESCRIPTION:
URL:https://riverstonememorial.com.au/event/vegas-day-2-2/2027-05-18/
CATEGORIES:Live Entertainment,Regular Events
END:VEVENT
BEGIN:VEVENT
DTSTART;TZID=Australia/Sydney:20270615T110000
DTEND;TZID=Australia/Sydney:20270615T170000
DTSTAMP:20260422T194322
CREATED:20250120T065749Z
LAST-MODIFIED:20260209T033832Z
UID:10020871-1813057200-1813078800@riverstonememorial.com.au
SUMMARY:Vegas Day
DESCRIPTION:
URL:https://riverstonememorial.com.au/event/vegas-day-2-2/2027-06-15/
CATEGORIES:Live Entertainment,Regular Events
END:VEVENT
BEGIN:VEVENT
DTSTART;TZID=Australia/Sydney:20270720T110000
DTEND;TZID=Australia/Sydney:20270720T170000
DTSTAMP:20260422T194322
CREATED:20250120T065749Z
LAST-MODIFIED:20260209T033832Z
UID:10020872-1816081200-1816102800@riverstonememorial.com.au
SUMMARY:Vegas Day
DESCRIPTION:
URL:https://riverstonememorial.com.au/event/vegas-day-2-2/2027-07-20/
CATEGORIES:Live Entertainment,Regular Events
END:VEVENT
BEGIN:VEVENT
DTSTART;TZID=Australia/Sydney:20270817T110000
DTEND;TZID=Australia/Sydney:20270817T170000
DTSTAMP:20260422T194322
CREATED:20250120T065749Z
LAST-MODIFIED:20260209T033832Z
UID:10020873-1818500400-1818522000@riverstonememorial.com.au
SUMMARY:Vegas Day
DESCRIPTION:
URL:https://riverstonememorial.com.au/event/vegas-day-2-2/2027-08-17/
CATEGORIES:Live Entertainment,Regular Events
END:VEVENT
BEGIN:VEVENT
DTSTART;TZID=Australia/Sydney:20270921T110000
DTEND;TZID=Australia/Sydney:20270921T170000
DTSTAMP:20260422T194322
CREATED:20250120T065749Z
LAST-MODIFIED:20260209T033832Z
UID:10020874-1821524400-1821546000@riverstonememorial.com.au
SUMMARY:Vegas Day
DESCRIPTION:
URL:https://riverstonememorial.com.au/event/vegas-day-2-2/2027-09-21/
CATEGORIES:Live Entertainment,Regular Events
END:VEVENT
BEGIN:VEVENT
DTSTART;TZID=Australia/Sydney:20271019T110000
DTEND;TZID=Australia/Sydney:20271019T170000
DTSTAMP:20260422T194322
CREATED:20250120T065749Z
LAST-MODIFIED:20260209T033832Z
UID:10020875-1823943600-1823965200@riverstonememorial.com.au
SUMMARY:Vegas Day
DESCRIPTION:
URL:https://riverstonememorial.com.au/event/vegas-day-2-2/2027-10-19/
CATEGORIES:Live Entertainment,Regular Events
END:VEVENT
BEGIN:VEVENT
DTSTART;TZID=Australia/Sydney:20271116T110000
DTEND;TZID=Australia/Sydney:20271116T170000
DTSTAMP:20260422T194322
CREATED:20250120T065749Z
LAST-MODIFIED:20260209T033832Z
UID:10020876-1826362800-1826384400@riverstonememorial.com.au
SUMMARY:Vegas Day
DESCRIPTION:
URL:https://riverstonememorial.com.au/event/vegas-day-2-2/2027-11-16/
CATEGORIES:Live Entertainment,Regular Events
END:VEVENT
BEGIN:VEVENT
DTSTART;TZID=Australia/Sydney:20271221T110000
DTEND;TZID=Australia/Sydney:20271221T170000
DTSTAMP:20260422T194322
CREATED:20250120T065749Z
LAST-MODIFIED:20260209T033832Z
UID:10020877-1829386800-1829408400@riverstonememorial.com.au
SUMMARY:Vegas Day
DESCRIPTION:
URL:https://riverstonememorial.com.au/event/vegas-day-2-2/2027-12-21/
CATEGORIES:Live Entertainment,Regular Events
END:VEVENT
BEGIN:VEVENT
DTSTART;TZID=Australia/Sydney:20280118T110000
DTEND;TZID=Australia/Sydney:20280118T170000
DTSTAMP:20260422T194322
CREATED:20250120T065749Z
LAST-MODIFIED:20260209T033832Z
UID:10020878-1831806000-1831827600@riverstonememorial.com.au
SUMMARY:Vegas Day
DESCRIPTION:
URL:https://riverstonememorial.com.au/event/vegas-day-2-2/2028-01-18/
CATEGORIES:Live Entertainment,Regular Events
END:VEVENT
BEGIN:VEVENT
DTSTART;TZID=Australia/Sydney:20280215T110000
DTEND;TZID=Australia/Sydney:20280215T170000
DTSTAMP:20260422T194323
CREATED:20250120T065749Z
LAST-MODIFIED:20260209T033832Z
UID:10020879-1834225200-1834246800@riverstonememorial.com.au
SUMMARY:Vegas Day
DESCRIPTION:
URL:https://riverstonememorial.com.au/event/vegas-day-2-2/2028-02-15/
CATEGORIES:Live Entertainment,Regular Events
END:VEVENT
BEGIN:VEVENT
DTSTART;TZID=Australia/Sydney:20280321T110000
DTEND;TZID=Australia/Sydney:20280321T170000
DTSTAMP:20260422T194323
CREATED:20250120T065749Z
LAST-MODIFIED:20260209T033832Z
UID:10020880-1837249200-1837270800@riverstonememorial.com.au
SUMMARY:Vegas Day
DESCRIPTION:
URL:https://riverstonememorial.com.au/event/vegas-day-2-2/2028-03-21/
CATEGORIES:Live Entertainment,Regular Events
END:VEVENT
BEGIN:VEVENT
DTSTART;TZID=Australia/Sydney:20280418T110000
DTEND;TZID=Australia/Sydney:20280418T170000
DTSTAMP:20260422T194323
CREATED:20250120T065749Z
LAST-MODIFIED:20260209T033832Z
UID:10020881-1839668400-1839690000@riverstonememorial.com.au
SUMMARY:Vegas Day
DESCRIPTION:
URL:https://riverstonememorial.com.au/event/vegas-day-2-2/2028-04-18/
CATEGORIES:Live Entertainment,Regular Events
END:VEVENT
BEGIN:VEVENT
DTSTART;TZID=Australia/Sydney:20280516T110000
DTEND;TZID=Australia/Sydney:20280516T170000
DTSTAMP:20260422T194323
CREATED:20250120T065749Z
LAST-MODIFIED:20260209T033832Z
UID:10020882-1842087600-1842109200@riverstonememorial.com.au
SUMMARY:Vegas Day
DESCRIPTION:
URL:https://riverstonememorial.com.au/event/vegas-day-2-2/2028-05-16/
CATEGORIES:Live Entertainment,Regular Events
END:VEVENT
BEGIN:VEVENT
DTSTART;TZID=Australia/Sydney:20280620T110000
DTEND;TZID=Australia/Sydney:20280620T170000
DTSTAMP:20260422T194323
CREATED:20250120T065749Z
LAST-MODIFIED:20260209T033832Z
UID:10020883-1845111600-1845133200@riverstonememorial.com.au
SUMMARY:Vegas Day
DESCRIPTION:
URL:https://riverstonememorial.com.au/event/vegas-day-2-2/2028-06-20/
CATEGORIES:Live Entertainment,Regular Events
END:VEVENT
BEGIN:VEVENT
DTSTART;TZID=Australia/Sydney:20280718T110000
DTEND;TZID=Australia/Sydney:20280718T170000
DTSTAMP:20260422T194323
CREATED:20250120T065749Z
LAST-MODIFIED:20260209T033832Z
UID:10020884-1847530800-1847552400@riverstonememorial.com.au
SUMMARY:Vegas Day
DESCRIPTION:
URL:https://riverstonememorial.com.au/event/vegas-day-2-2/2028-07-18/
CATEGORIES:Live Entertainment,Regular Events
END:VEVENT
BEGIN:VEVENT
DTSTART;TZID=Australia/Sydney:20280815T110000
DTEND;TZID=Australia/Sydney:20280815T170000
DTSTAMP:20260422T194323
CREATED:20250120T065749Z
LAST-MODIFIED:20260209T033832Z
UID:10020885-1849950000-1849971600@riverstonememorial.com.au
SUMMARY:Vegas Day
DESCRIPTION:
URL:https://riverstonememorial.com.au/event/vegas-day-2-2/2028-08-15/
CATEGORIES:Live Entertainment,Regular Events
END:VEVENT
BEGIN:VEVENT
DTSTART;TZID=Australia/Sydney:20280919T110000
DTEND;TZID=Australia/Sydney:20280919T170000
DTSTAMP:20260422T194323
CREATED:20250120T065749Z
LAST-MODIFIED:20260209T033832Z
UID:10020886-1852974000-1852995600@riverstonememorial.com.au
SUMMARY:Vegas Day
DESCRIPTION:
URL:https://riverstonememorial.com.au/event/vegas-day-2-2/2028-09-19/
CATEGORIES:Live Entertainment,Regular Events
END:VEVENT
BEGIN:VEVENT
DTSTART;TZID=Australia/Sydney:20281017T110000
DTEND;TZID=Australia/Sydney:20281017T170000
DTSTAMP:20260422T194323
CREATED:20250120T065749Z
LAST-MODIFIED:20260209T033832Z
UID:10020887-1855393200-1855414800@riverstonememorial.com.au
SUMMARY:Vegas Day
DESCRIPTION:
URL:https://riverstonememorial.com.au/event/vegas-day-2-2/2028-10-17/
CATEGORIES:Live Entertainment,Regular Events
END:VEVENT
END:VCALENDAR